BEGIN:VCALENDAR
VERSION:2.0
PRODID:-//Lets Rock Burgdorf - ECPv6.15.20//NONSGML v1.0//EN
CALSCALE:GREGORIAN
METHOD:PUBLISH
X-ORIGINAL-URL:https://letsrockburgdorf.de
X-WR-CALDESC:Veranstaltungen für Lets Rock Burgdorf
REFRESH-INTERVAL;VALUE=DURATION:PT1H
X-Robots-Tag:noindex
X-PUBLISHED-TTL:PT1H
BEGIN:VTIMEZONE
TZID:Europe/Berlin
BEGIN:DAYLIGHT
TZOFFSETFROM:+0100
TZOFFSETTO:+0200
TZNAME:CEST
DTSTART:20250330T010000
END:DAYLIGHT
BEGIN:STANDARD
TZOFFSETFROM:+0200
TZOFFSETTO:+0100
TZNAME:CET
DTSTART:20251026T010000
END:STANDARD
BEGIN:DAYLIGHT
TZOFFSETFROM:+0100
TZOFFSETTO:+0200
TZNAME:CEST
DTSTART:20260329T010000
END:DAYLIGHT
BEGIN:STANDARD
TZOFFSETFROM:+0200
TZOFFSETTO:+0100
TZNAME:CET
DTSTART:20261025T010000
END:STANDARD
BEGIN:DAYLIGHT
TZOFFSETFROM:+0100
TZOFFSETTO:+0200
TZNAME:CEST
DTSTART:20270328T010000
END:DAYLIGHT
BEGIN:STANDARD
TZOFFSETFROM:+0200
TZOFFSETTO:+0100
TZNAME:CET
DTSTART:20271031T010000
END:STANDARD
END:VTIMEZONE
BEGIN:VEVENT
DTSTART;TZID=Europe/Berlin:20260314T200000
DTEND;TZID=Europe/Berlin:20260314T233000
DTSTAMP:20260423T011013
CREATED:20260214T090358Z
LAST-MODIFIED:20260223T191559Z
UID:701-1773518400-1773531000@letsrockburgdorf.de
SUMMARY:Let´s Rock Burgdorf im Bistro Garfield Burgdorf
DESCRIPTION:Mit Five by Five und Black Eyed Daisy \n \n 
URL:https://letsrockburgdorf.de/event/lets-rock-burgdorf/
LOCATION:Bistro Garfield Burgdorf\, Gartenstr. 45\, Burgdorf\, 31303\, Germany
END:VEVENT
END:VCALENDAR