BEGIN:VCALENDAR
VERSION:2.0
PRODID:-//Lets Rock Burgdorf - ECPv6.15.20//NONSGML v1.0//EN
CALSCALE:GREGORIAN
METHOD:PUBLISH
X-WR-CALNAME:Lets Rock Burgdorf
X-ORIGINAL-URL:https://letsrockburgdorf.de
X-WR-CALDESC:Veranstaltungen für Lets Rock Burgdorf
REFRESH-INTERVAL;VALUE=DURATION:PT1H
X-Robots-Tag:noindex
X-PUBLISHED-TTL:PT1H
BEGIN:VTIMEZONE
TZID:Europe/Berlin
BEGIN:DAYLIGHT
TZOFFSETFROM:+0100
TZOFFSETTO:+0200
TZNAME:CEST
DTSTART:20250330T010000
END:DAYLIGHT
BEGIN:STANDARD
TZOFFSETFROM:+0200
TZOFFSETTO:+0100
TZNAME:CET
DTSTART:20251026T010000
END:STANDARD
BEGIN:DAYLIGHT
TZOFFSETFROM:+0100
TZOFFSETTO:+0200
TZNAME:CEST
DTSTART:20260329T010000
END:DAYLIGHT
BEGIN:STANDARD
TZOFFSETFROM:+0200
TZOFFSETTO:+0100
TZNAME:CET
DTSTART:20261025T010000
END:STANDARD
BEGIN:DAYLIGHT
TZOFFSETFROM:+0100
TZOFFSETTO:+0200
TZNAME:CEST
DTSTART:20270328T010000
END:DAYLIGHT
BEGIN:STANDARD
TZOFFSETFROM:+0200
TZOFFSETTO:+0100
TZNAME:CET
DTSTART:20271031T010000
END:STANDARD
END:VTIMEZONE
BEGIN:VEVENT
DTSTART;TZID=Europe/Berlin:20260815T200000
DTEND;TZID=Europe/Berlin:20260815T233000
DTSTAMP:20260424T143656
CREATED:20260214T193045Z
LAST-MODIFIED:20260214T193045Z
UID:723-1786824000-1786836600@letsrockburgdorf.de
SUMMARY:Let´s Rock Burgdorf im Bistro Garfield Burgdorf
DESCRIPTION:
URL:https://letsrockburgdorf.de/event/lets-rock-burgdorf-im-bistro-garfield-burgdorf-3/
LOCATION:Bistro Garfield Burgdorf\, Gartenstr. 45\, Burgdorf\, 31303\, Germany
END:VEVENT
BEGIN:VEVENT
DTSTART;TZID=Europe/Berlin:20260828T190000
DTEND;TZID=Europe/Berlin:20260828T233000
DTSTAMP:20260424T143656
CREATED:20260214T193315Z
LAST-MODIFIED:20260214T193404Z
UID:725-1787943600-1787959800@letsrockburgdorf.de
SUMMARY:Let´s Rock Burgdorf Open Stage im Johnny B
DESCRIPTION:MukkerFriday 
URL:https://letsrockburgdorf.de/event/lets-rock-burgdorf-open-stage-im-johnny-b-3/
LOCATION:JohnnyB\, Sorgenser Str. 30\, Burgdorf\, 31303\, Germany
END:VEVENT
END:VCALENDAR